Workbook
Name ACT: #REF!
Name ACT: #REF!
Name App: [1]Tables!$C$362:$C$363
Name App: Tables_Brokers!$C$301:$C$302
Name App: Tables!$C$358:$C$359
Name Approval_Officers: [1]Tables!$A$22:$C$28
Name Approval_Officers: Tables_Brokers!$A$17:$C$25
Name Approval_Officers: Tables!$A$18:$C$24
Name Australia: HEM!$C$10:$Q$24
Name CC_Rates: [1]Tables!$C$275:$C$277
Name CC_Rates: Tables!$C$271:$C$273
Name Confirmed: [1]Tables!$A$390:$A$391
Name Confirmed: Tables_Brokers!$A$328:$A$329
Name Confirmed: Tables!$A$385:$A$386
Name CreditReport: [1]Tables!$A$408:$A$414
Name CreditReport: Tables_Brokers!$A$346:$A$352
Name CreditReport: Tables!$A$403:$A$409
Name Delegations: [1]Tables!$A$33:$M$142
Name Delegations: Tables_Brokers!$A$28:$G$126
Name Delegations: Tables!$A$29:$M$138
Name Family: Tables_Brokers!$A$294:$C$298
Name Family: Tables!$A$327:$C$331
Name HELP_Table_2020_21: [1]Tables!$A$339:$B$357
Name HELP_Table_2020_21: Tables!$A$335:$B$353
Name Interest_Type: [1]Tables!$A$275:$A$277
Name Interest_Type: Tables_Brokers!$A$238:$A$240
Name Interest_Type: Tables!$A$271:$A$273
Name LIVING: [1]HEM!$C$10:$Q$246
Name LIVING: HEM!$C$10:$Q$246
Name Living_Expenses: [1]Tables!$F$280:$F$286
Name Living_Expenses: Tables_Brokers!$F$243:$F$249
Name Living_Expenses: Tables!$F$276:$F$282
Name Location: [1]Tables!$C$291:$C$304
Name Location: Tables_Brokers!$C$254:$C$267
Name Location: Tables!$C$287:$C$300
Name NSRRate: [1]Tables!$A$161:$E$272
Name NSRRate: Tables_Brokers!$A$136:$E$235
Name NSRRate: Tables!$A$157:$E$268
Name NSW: #REF!
Name NSW: #REF!
Name NT: #REF!
Name NT: #REF!
Name PayFreq: Tables_Brokers!$B$244:$B$247
Name PayFreq: Tables!$B$277:$B$280
Name Period: [1]Tables!$B$280:$B$284
Name Period: Tables_Brokers!$B$243:$B$247
Name Period: Tables!$B$276:$B$280
Name Product_IR: [1]Tables!$B$160:$P$272
Name Product_IR: Tables!$B$156:$P$268
Name Product_NSR: [1]Tables_Brokers!$A$63:$E$86
Name Product_NSR: Tables_Brokers!$A$137:$E$235
Name Product_NSR: Tables_Brokers!$A$212:$E$235
Name ProductDLA: [1]Tables!$B$33:$K33
Name ProductDLA: Tables!$B$29:$K35
Name QLD: #REF!
Name QLD: #REF!
Name Rates: [1]Tables!$A$162:$C$272
Name Rates: Tables!$A$158:$C$268
Name Rates_Broker: Tables_Brokers!$A$137:$C$235
Name Rates_Broker: Tables_Brokers!$A$212:$C$235

Sheet Broker
B1: Move Bank Loan Worksheet | G1: Version 1 - 01/09/2026 | L1: =+NOW() -> 46266.373
B3: Applicant 1 | F3: Age | H3: Applicant 2 | L3: Age
B6: Taxable Income | I6: Non Taxed Income | M6: App | O6: Salary | P6: Gross | Q6: Disc | R6: Wages YTD | Y6: App 1 | Z6: App 2
B7: Income | C7: Discount | D7: Employer | F7: Gross | G7: Period | N7: =+IF(I7="Salary Packaging",1,0)+IF(I7="Car Allowance",1,0) -> 0 | O7: App 1 | P7: =+SUM(X8:X13)+SUMIF(M7:M9,"App 1",V7:V9)+SUMIF(M12:M13,"App 1",V12:V13) -> 0 | Q7: =+SUM(T8:T13)/12+SUMIF(M7:M9,"App 1",V7:V9)+SUMIF(M12:M13,"App 1",V12:V13)*I14 -> 0 | R7: =+SUM(X8:X13)/30.3*Q14+(Y7*N7)/30.3*Q14+(Y8*N8)/30.3*Q14+(Y9*N9)/30.3*Q14 -> 0 | V7: =+IF(K7="",L7*0,IF(K7="A",L7/12,IF(K7="M",L7,IF(K7="b",L7*24/12,IF(K7="F",L7*26/12,IF(K7="W",L7*52/12))))))*W7 -> 0 | W7: =+IF(L7>0,IF(K7="","error",1)) -> FALSE | Y7: =+SUMIF(M7,"App 1",V7) -> 0 | Z7: =+SUMIF(M7,"App 2",V7) -> 0
B8: Applicant 1 | N8: =+IF(I8="Salary Packaging",1,0)+IF(I8="Car Allowance",1,0) -> 0 | O8: App 2 | P8: =+SUM(X14:X19)+SUMIF(M7:M9,"App 2",V7:V9)+SUMIF(M12:M13,"App 2",V12:V13) -> 0 | Q8: =+SUM(T14:T19)/12+SUMIF(M7:M9,"App 2",V7:V9)+SUMIF(M12:M13,"App 2",V12:V13)*0.8 -> 0 | R8: =+SUM(X14:X19)/30.3*Q18+(Z7*N7)/30.3*Q18+(Z8*N8)/30.3*Q18+(Z9*N9)/30.3*Q18 -> 0 | T8: =+IF(G8="",F8*0,IF(G8="A",F8,IF(G8="M",F8*12,IF(G8="B",F8*24,IF(G8="F",F8*26,IF(G8="W",F8*52))))))*U8 -> 0 | U8: =+IF(F8>0,IF(G8="","error",1)) -> FALSE | V8: =+IF(K8="",L8*0,IF(K8="A",L8/12,IF(K8="M",L8,IF(K8="b",L8*24/12,IF(K8="F",L8*26/12,IF(K8="W",L8*52/12))))))*W8 -> 0 | W8: =+IF(L8>0,IF(K8="","error",1)) -> FALSE | X8: =+T8/12 -> 0 | Y8: =+SUMIF(M8,"App 1",V8) -> 0 | Z8: =+SUMIF(M8,"App 2",V8) -> 0
B9: Overtime/Commission | C9: 0.8 | N9: =+IF(I9="Salary Packaging",1,0)+IF(I9="Car Allowance",1,0) -> 0 | O9: Total | P9: =SUM(P7:P8) -> 0 | Q9: =SUM(Q7:Q8) -> 0 | T9: =+IF(G9="",0*F9,IF(G9="A",F9*C9,IF(G9="M",F9*12*C9,IF(G9="B",F9*24*C9,IF(G9="F",F9*26*C9,IF(G9="W",F9*52*C9))))))*U9 -> 0 | U9: =+IF(F9>0,IF(G9="","error",1)) -> FALSE | V9: =+IF(K9="",L9*0,IF(K9="A",L9/12,IF(K9="M",L9,IF(K9="b",L9*24/12,IF(K9="F",L9*26/12,IF(K9="W",L9*52/12))))))*W9 -> 0 | W9: =+IF(L9>0,IF(K9="","error",1)) -> FALSE | X9: =+(T9/C9*100%)/12 -> 0 | Y9: =+SUMIF(M9,"App 1",V9) -> 0 | Z9: =+SUMIF(M9,"App 2",V9) -> 0
B10: Second Job | C10: 1 | I10: Rental Income - Negative Geared | O10: Check | P10: =+C50/12 -> 0 | Q10: =+C48 -> 0 | T10: =+IF(G10="",0*F10,IF(G10="A",F10*C10,IF(G10="M",F10*12*C10,IF(G10="B",F10*24*C10,IF(G10="F",F10*26*C10,IF(G10="W",F10*52*C10))))))*U10 -> 0 | U10: =+IF(F10>0,IF(G10="","error",1)) -> FALSE | X10: =+(T10/C10*100%)/12 -> 0
B11: Rent (non neg gear) | C11: 0.8 | I11: Property | J11: Rent $ | K11: Period | L11: Suburb | M11: App | T11: =+IF(G11="",0*F11,IF(G11="A",F11*C11,IF(G11="M",F11*12*C11,IF(G11="B",F11*24*C11,IF(G11="F",F11*26*C11,IF(G11="W",F11*52*C11))))))*U11 -> 0 | U11: =+IF(F11>0,IF(G11="","error",1)) -> FALSE | X11: =+(T11/C11*100%)/12 -> 0
B12: Allowances | C12: 0.8 | I12: Property 1 | O12: App 1 | P12: Date | Q12: Period | T12: =+IF(G12="",0*F12,IF(G12="A",F12*C12,IF(G12="M",F12*12*C12,IF(G12="B",F12*24*C12,IF(G12="F",F12*26*C12,IF(G12="W",F12*52*C12))))))*U12 -> 0 | U12: =+IF(F12>0,IF(G12="","error",1)) -> FALSE | V12: =+IF(K12="",0*J12,IF(K12="A",J12/12,IF(K12="M",J12,IF(K12="B",J12*24/12,IF(K12="F",J12*26/12,IF(K12="W",J12*52/12))))))*W12 -> 0 | W12: =+IF(J12>0,IF(K12="","error",1)) -> FALSE | X12: =+(T12/C12*100%)/12 -> 0 | Y12: =+SUMIF(M12,"App 1",V12) -> 0 | Z12: =+SUMIF(M12,"App 2",V12) -> 0
B13: Bonus | C13: 0.5 | I13: Property 2 | O13: Pay Period Ending | Q13: =+G8 -> 0 | T13: =+IF(G13="",0*F13,IF(G13="A",F13*C13,IF(G13="M",F13*12*C13,IF(G13="B",F13*24*C13,IF(G13="F",F13*26*C13,IF(G13="W",F13*52*C13))))))*U13 -> 0 | U13: =+IF(F13>0,IF(G13="","error",1)) -> FALSE | V13: =+IF(K13="",0*J13,IF(K13="A",J13/12,IF(K13="M",J13,IF(K13="B",J13*24/12,IF(K13="F",J13*26/12,IF(K13="W",J13*52/12))))))*W13 -> 0 | W13: =+IF(J13>0,IF(K13="","error",1)) -> FALSE | X13: =+(T13/C13*100%)/12 -> 0 | Y13: =+SUMIF(M13,"App 1",V13) -> 0 | Z13: =+SUMIF(M13,"App 2",V13) -> 0
B14: Applicant 2 | I14: 0.8 | J14: Gross per month | L14: =V14 -> 0 | O14: Prior Year End | P14: 46203 | Q14: =(P13-P14) -> -46203 | T14: =+IF(G14="",+F9*0,IF(G14="A",F14,IF(G14="M",F14*12,IF(G14="B",F14*24,IF(G14="F",F14*26,IF(G14="W",F14*52))))))*U14 -> 0 | U14: =+IF(F14>0,IF(G14="","error",1)) -> FALSE | V14: =SUM(V12:V13) -> 0 | X14: =+T14/12 -> 0
B15: Overtime/Commission | C15: 0.8 | I15: Living Expenses & LMI | O15: Pay Periods | P15: =ROUNDDOWN(+IF(Q13="",0*Q14,IF(Q13="M",Q14/30.3,IF(Q13="B",Q14/15,IF(Q13="F",Q14/14+1,IF(Q13="W",Q14/7))))),0) -> 0 | T15: =+IF(G15="",0*F15,IF(G15="A",F15*C15,IF(G15="M",F15*12*C15,IF(G15="B",F15*24*C15,IF(G15="F",F15*26*C15,IF(G15="W",F15*52*C15))))))*U15 -> 0 | U15: =+IF(F15>0,IF(G15="","error",1)) -> FALSE | X15: =+(T15/C15*100%)/12 -> 0
B16: Second Job | C16: 1 | I16: No. Adults | L16: Per Month | M16: =+L17+#REF! -> #N/A | O16: App 2 | P16: Date | Q16: Period | T16: =+IF(G16="",0*F16,IF(G16="A",F16*C16,IF(G16="M",F16*12*C16,IF(G16="B",F16*24*C16,IF(G16="F",F16*26*C16,IF(G16="W",F16*52*C16))))))*U16 -> 0 | U16: =+IF(F16>0,IF(G16="","error",1)) -> FALSE | X16: =+(T16/C16*100%)/12 -> 0
B17: Rent (non neg gear) | C17: 0.8 | I17: No. Children | K17: HEM | L17: =+IF(Tables_Brokers!H251>0,+Tables_Brokers!H251,"ERROR") -> #N/A | O17: Pay Period Ending | Q17: =+G14 -> 0 | T17: =+IF(G17="",0*F17,IF(G17="A",F17*C17,IF(G17="M",F17*12*C17,IF(G17="B",F17*24*C17,IF(G17="F",F17*26*C17,IF(G17="W",F17*52*C17))))))*U17 -> 0 | U17: =+IF(F17>0,IF(G17="","error",1)) -> FALSE | X17: =+(T17/C17*100%)/12 -> 0
B18: Allowances | C18: 0.8 | I18: Health Ins | J18: Yes | K18: Declared | L18: =+IF('Living Expenses'!E32=0,"ERROR",'Living Expenses'!E32) -> 1 | M18: Confirm YES or select NO | O18: Prior Year End | P18: =+P14 -> 46203 | Q18: =(P17-P18) -> -46203 | T18: =+IF(G18="",0*F18,IF(G18="A",F18*C18,IF(G18="M",F18*12*C18,IF(G18="B",F18*24*C18,IF(G18="F",F18*26*C18,IF(G18="W",F18*52*C18))))))*U18 -> 0 | U18: =+IF(F18>0,IF(G18="","error",1)) -> FALSE | X18: =+(T18/C18*100%)/12 -> 0
B19: Bonus | C19: 0.5 | I19: LMI | J19: Yes | K19: Assessed | L19: ='Living Expenses'!I32 -> 1 | M19: Confirm YES or select NO | O19: Pay Periods | P19: =ROUNDDOWN(+IF(Q17="",0*Q18,IF(Q17="M",Q18/30.3,IF(Q17="B",Q18/15,IF(Q17="F",Q18/14+1,IF(Q17="W",Q18/7))))),0) -> 0 | S19: =+CONCATENATE(J20,J16,"+",J17) -> + | T19: =+IF(G19="",0*F19,IF(G19="A",F19*C19,IF(G19="M",F19*12*C19,IF(G19="B",F19*24*C19,IF(G19="F",F19*26*C19,IF(G19="W",F19*52*C19))))))*U19 -> 0 | U19: =+IF(F19>0,IF(G19="","error",1)) -> FALSE | X19: =+(T19/C19*100%)/12 -> 0
I20: Location | L20: =IF(L17="ERROR","ERROR",IF(L18="ERROR","ERROR",IF(L19="ERROR","ERROR",+MAX(L17:L19)))) -> #N/A
B22: Commitment Details | T22: =+T8+T9/C9+T10/C10+T11/C11+T12/C12+T13/C13+T14+T15/C15+T16/C16+T17/C17+T18/C18+T19/C19 -> 0 | V22: =(SUM(V7:V19)-V14)*12 -> 0
B23: Lender | C23: Loan Amount or Balance (inc Redraw) | D23: Loan Type or Repay Type | E23: Rate/Limit or Repay | F23: Lender/Agent | G23: Term (in months) | H23: IO Split PO | I23: Repay pm | J23: =+CONCATENATE("Repay pm ",T24) -> #N/A | K23: LVR | L23: Security Value | M23: Add'l Buffer | N23: Notes | O23: Buffer | S23: Repay pm | T23: =+IF(J19="Yes",VLOOKUP(D24,Product_NSR,5,FALSE),VLOOKUP(D24,ProductNSR,4,FALSE)) -> #N/A
A24: =IF(H24="Y","Y","") -> #N/A | B24: Proposed Loan | E24: =+VLOOKUP(D24,Tables_Brokers!Rates_Broker,3,FALSE) -> #N/A | F24: MOVE | H24: =+VLOOKUP(D24,Tables!A155:F268,6,FALSE) -> #N/A | I24: =+IF(C24=0,0,IF(D24="Flexicredit",C24*0.05,IF(D24="Credit Card",-PMT(E24/12,36,C24,0),-PMT(E24/12,G24,C24,0))))+P24 -> #N/A | J24: =+IF(C24=0,0,IF(D24="Flexicredit",C24*0.05,IF(D24="Credit Card",-PMT(E24/12,36,C24,0),-PMT($T$24/12,G24,C24,0))))+P24 -> #N/A | K24: =+IF(L24=0," ",C24/L24) | M24: =IF(H24="IO",+J24-I24,IF(J19="YES",J24-V24,0)) -> #N/A | O24: =+IF(J24>I24,J24/I24,"") -> #N/A | P24: =+VLOOKUP(D24,Tables!A155:G268,7,FALSE) -> #N/A | S24: =+IF(F24="MOVE",IF(A24="Y",0,C24)) -> #N/A | T24: =+IF($J$19="","ERROR",IF($J$19="Yes",VLOOKUP($D$24,Tables_Brokers!Product_NSR,5,FALSE),VLOOKUP($D$24,Tables_Brokers!Product_NSR,4,FALSE))) -> #N/A | U24: =+VLOOKUP($D$24,Product_NSR,4,FALSE) -> #N/A | V24: =-PMT($U$24/12,G24,C24,0) -> #N/A | W24: =+T24-E24 -> #N/A
A25: =IF(H25="Y","Y","") | B25: Home Loan | I25: =+IF(C25=0,0,IF(H25="Y",0,IF(H25=0.5,-(PMT(E25/12,G25,C25,0)*H25),-(PMT(E25/12,G25,C25,0))))) -> 0 | J25: =+IF(C25=0,0,+IF(H25="Y",0,IF(H25=0.5,-(PMT(T25/12,G25,C25,0)*H25),-(PMT(T25/12,G25,C25,0))))) -> 0 | K25: =+IF(C25=0,0,C25/L25) -> 0 | M25: =+J25-I25 -> 0 | O25: =+IF(J25>I25,J25/I25,"") | S25: =+IF(F25="MOVE",IF(A25="Y",0,C25)) -> FALSE | T25: =IF((E25+Tables_Brokers!$C$131)<Tables_Brokers!$C$132,Tables_Brokers!$C$132,E25+Tables_Brokers!$C$131) -> 0.055
A26: =IF(H26="Y","Y","") | B26: Home Loan | I26: =+IF(C26=0,0,IF(H26="Y",0,IF(H26=0.5,-(PMT(E26/12,G26,C26,0)*H26),-(PMT(E26/12,G26,C26,0))))) -> 0 | J26: =+IF(C26=0,0,+IF(H26="Y",0,IF(H26=0.5,-(PMT(T26/12,G26,C26,0)*H26),-(PMT(T26/12,G26,C26,0))))) -> 0 | K26: =+IF(C26=0,0,C26/L26) -> 0 | M26: =+J26-I26 -> 0 | O26: =+IF(J26>I26,J26/I26,"") | S26: =+IF(F26="MOVE",IF(A26="Y",0,C26)) -> FALSE | T26: =IF((E26+Tables_Brokers!$C$131)<Tables_Brokers!$C$132,Tables_Brokers!$C$132,E26+Tables_Brokers!$C$131) -> 0.055
A27: =IF(H27="Y","Y","") | B27: Investment Loan | I27: =+IF(C27=0,0,IF(H27="Y",0,IF(H27=0.5,-(PMT(E27/12,G27,C27,0)*H27),-(PMT(E27/12,G27,C27,0))))) -> 0 | J27: =+IF(C27=0,0,+IF(H27="Y",0,IF(H27=0.5,-(PMT(T27/12,G27,C27,0)*H27),-(PMT(T27/12,G27,C27,0))))) -> 0 | K27: =+IF(C27=0,0,C27/L27) -> 0 | M27: =+J27-I27 -> 0 | O27: =+IF(J27>I27,J27/I27,"") | S27: =+IF(F27="MOVE",IF(A27="Y",0,C27)) -> FALSE | T27: =IF((E27+Tables_Brokers!$C$131)<Tables_Brokers!$C$132,Tables_Brokers!$C$132,E27+Tables_Brokers!$C$131) -> 0.055
A28: =IF(H28="Y","Y","") | B28: Investment Loan | I28: =+IF(C28=0,0,IF(H28="Y",0,IF(H28=0.5,-(PMT(E28/12,G28,C28,0)*H28),-(PMT(E28/12,G28,C28,0))))) -> 0 | J28: =+IF(C28=0,0,+IF(H28="Y",0,IF(H28=0.5,-(PMT(T28/12,G28,C28,0)*H28),-(PMT(T28/12,G28,C28,0))))) -> 0 | K28: =+IF(C28=0,0,C28/L28) -> 0 | M28: =+J28-I28 -> 0 | O28: =+IF(J28>I28,J28/I28,"") | S28: =+IF(F28="MOVE",IF(A28="Y",0,C28)) -> FALSE | T28: =IF((E28+Tables_Brokers!$C$131)<Tables_Brokers!$C$132,Tables_Brokers!$C$132,E28+Tables_Brokers!$C$131) -> 0.055
A29: =IF(H29="Y","Y","") | B29: Car Loan/Lease | I29: =+IF(H29="Y",0,T29) -> 0 | J29: =+I29 -> 0 | S29: =+IF(F29="MOVE",IF(A29="Y",0,C29)) -> FALSE | T29: =+IF(D29="",E29*0,IF(D29="A",E29/12,IF(D29="M",E29,IF(D29="B",E29*24/12,IF(D29="F",E29*26/12,IF(D29="W",E29*52/12))))))*U29 -> 0 | U29: =+IF(E29>0,IF(D29="","Error",1)) -> FALSE
A30: =IF(H30="Y","Y","") | B30: Car Loan/Lease | I30: =+IF(H30="Y",0,T30) -> 0 | J30: =+I30 -> 0 | S30: =+IF(F30="MOVE",IF(A30="Y",0,C30)) -> FALSE | T30: =+IF(D30="",E30*0,IF(D30="A",E30/12,IF(D30="M",E30,IF(D30="B",E30*24/12,IF(D30="F",E30*26/12,IF(D30="W",E30*52/12))))))*U30 -> 0 | U30: =+IF(E30>0,IF(D30="","Error",1)) -> FALSE
A31: =IF(H31="Y","Y","") | B31: Personal Loan | I31: =+IF(H31="Y",0,T31) -> 0 | J31: =+I31 -> 0 | S31: =+IF(F31="MOVE",IF(A31="Y",0,C31)) -> FALSE | T31: =+IF(D31="",E31*0,IF(D31="A",E31/12,IF(D31="M",E31,IF(D31="B",E31*24/12,IF(D31="F",E31*26/12,IF(D31="W",E31*52/12))))))*U31 -> 0 | U31: =+IF(E31>0,IF(D31="","Error",1)) -> FALSE
A32: =IF(H32="Y","Y","") | B32: Rent/Board | C32: =+CONCATENATE("Min. $",Tables_Brokers!C319," pm") -> Min. $500 pm | I32: =+IF(E32="",0,IF(T32<Tables_Brokers!C319,Tables_Brokers!C319,IF(H32=0.5,T32*0.5,T32))) -> 0 | J32: =+I32 -> 0 | T32: =+IF(D32="",E32*0,IF(D32="A",E32/12,IF(D32="M",E32,IF(D32="B",E32*24/12,IF(D32="F",E32*26/12,IF(D32="W",E32*52/12))))))*U32 -> 0 | U32: =+IF(E32>0,IF(D32="","Error",1)) -> FALSE
A33: =IF(H33="Y","Y","") | B33: Other (specify) | I33: =T33 -> 0 | J33: =+I33 -> 0 | S33: =+IF(F33="MOVE",IF(A33="Y",0,C33)) -> FALSE | T33: =+IF(D33="",E33*0,IF(D33="A",E33/12,IF(D33="M",E33,IF(D33="B",E33*24/12,IF(D33="F",E33*26/12,IF(D33="W",E33*52/12))))))*U33 -> 0 | U33: =+IF(E33>0,IF(D33="","Error",1)) -> FALSE
A34: =IF(H34="Y","Y","") | B34: Other (specify) | I34: =T34 -> 0 | J34: =+I34 -> 0 | S34: =+IF(F34="MOVE",IF(A34="Y",0,C34)) -> FALSE | T34: =+IF(D34="",E34*0,IF(D34="A",E34/12,IF(D34="M",E34,IF(D34="B",E34*24/12,IF(D34="F",E34*26/12,IF(D34="W",E34*52/12))))))*U34 -> 0 | U34: =+IF(E34>0,IF(D34="","Error",1)) -> FALSE
A35: =IF(H35="Y","Y","") | B35: Overdraft | D35: =+IF(B35="overdraft",5%,3.8%) -> 0.05 | I35: =+IF(H35="Y",0,E35*D35) -> 0 | J35: =+I35 -> 0 | S35: =+IF(F35="MOVE",IF(A35="Y",0,E35)) -> FALSE
A36: =IF(H36="Y","Y","") | B36: Credit Card | D36: 0.038 | I36: =+IF(H36="Y",0,IF(AND(H36="Exc",C36=0),0,D36*E36)) -> 0 | J36: =+I36 -> 0 | S36: =+IF(F36="MOVE",IF(A36="Y",0,E36)) -> FALSE
A37: =IF(H37="Y","Y","") | B37: Credit Card | D37: 0.038 | I37: =+IF(H37="Y",0,IF(AND(H37="Exc",C37=0),0,D37*E37)) -> 0 | J37: =+I37 -> 0 | S37: =+IF(F37="MOVE",IF(A37="Y",0,E37)) -> FALSE
A38: =IF(H38="Y","Y","") | B38: Credit Card | D38: 0.038 | I38: =+IF(H38="Y",0,IF(AND(H38="Exc",C38=0),0,D38*E38)) -> 0 | J38: =+I38 -> 0 | S38: =+IF(F38="MOVE",IF(A38="Y",0,E38)) -> FALSE
A39: =IF(H39="Y","Y","") | B39: Credit Card | D39: 0.038 | I39: =+IF(H39="Y",0,IF(AND(H39="Exc",C39=0),0,D39*E39)) -> 0 | J39: =+I39 -> 0 | S39: =+IF(F39="MOVE",IF(A39="Y",0,E39)) -> FALSE
B40: Total Debt | C40: =SUMIF(A24:A39,"",C24:C39) -> 0 | D40: Total Exp MOVE Bank | F40: =+S40 -> #N/A | G40: Total Repay pm | I40: =SUM(+SUM(I24:I39)) -> #N/A | J40: =SUM(+SUM(J24:J39)) -> #N/A | K40: Security | L40: =+SUMIF(F24:F28,"MOVE",L24:L28) -> 0 | S40: =SUM(S24:S39) -> #N/A | T40: Lower | U40: Upper
B42: Serviceability Information | T42: =+Tables_Brokers!B280 -> 27222 | U42: =+Tables_Brokers!B281 -> 34027 | V42: Medicare threshold
B43: Income from Above | C43: Total Gross Income PM | D43: Less Tax Payable | E43: After Tax Income PM | F43: Employment Status | G43: Confirmed Payslip | H43: No of pay slips | I43: Reference Check | J43: Period of Employment | K43: Paid to MOVE? | L43: Comments | T43: Total Tax | U43: Medicare | V43: Tax | W43: Medicare Surcharge | X43: Gross | Y43: =+Y44/52 -> 0 | Z43: $180K+ | AA43: $90k<$180k | AB43: $37k<$90k | AC43: $18.2k<$37K | AD43: <$18200
B44: Member 1 | C44: =+SUM(T8:T13)/12 -> 0 | D44: =+T44/12 -> 0 | E44: =+C44-D44 -> 0 | H44: 2 | T44: =+U44+V44+W44 -> 0 | U44: =+IF(X$44<=$T$42,0,IF(X$44<=$U$42,((X44-$T$42)*Tables_Brokers!$B$278),X44*Tables_Brokers!$B$278)) -> 0 | V44: =+Y44 -> 0 | W44: =+Tables_Brokers!D283 -> 0 | X44: =+C44*12 -> 0 | Y44: =+SUM(Z44:AD44) -> 0 | Z44: =+IF(X44>=Tables_Brokers!$A$275,((X44-Tables_Brokers!$A$275)*Tables_Brokers!$B$276)+Tables_Brokers!$C$275,0) -> 0 | AA44: =+IF(Z44=0,IF(X44>=Tables_Brokers!$A$274,(X44-Tables_Brokers!$A$274)*Tables_Brokers!$B$275+Tables_Brokers!$C$274),0) -> FALSE | AB44: =+IF(SUM(Z44:AA44)=0,IF(X44>=Tables_Brokers!$A$273,(X44-Tables_Brokers!$A$273)*Tables_Brokers!$B$274+Tables_Brokers!$C$273),0) -> FALSE | AC44: =+IF(SUM(Z44:AB44)=0,IF(X44>=Tables_Brokers!$A$272,(X44-Tables_Brokers!$A$272)*Tables_Brokers!$B$273+Tables_Brokers!$C$272),0) -> FALSE | AD44: =+IF(SUM(Z44:AC44)=0,IF(X44<=Tables_Brokers!$A$272,0,0)) -> 0
B45: Member 2 | C45: =+SUM(T14:T19)/12 -> 0 | D45: =+T45/12 -> 0 | E45: =+C45-D45 -> 0 | H45: 2 | T45: =+U45+V45+W45 -> 0 | U45: =+IF(X$45<=$T$42,0,IF(X$45<=$U$42,((X45-$T$42)*Tables_Brokers!$B$278),X45*Tables_Brokers!$B$278)) -> 0 | V45: =+Y45 -> 0 | X45: =+C45*12 -> 0 | Y45: =+SUM(Z45:AD45) -> 0 | Z45: =+IF(X45>=Tables_Brokers!$A$275,((X45-Tables_Brokers!$A$275)*Tables_Brokers!$B$276)+Tables_Brokers!$C$275,0) -> 0 | AA45: =+IF(Z45=0,IF(X45>=Tables_Brokers!$A$274,(X45-Tables_Brokers!$A$274)*Tables_Brokers!$B$275+Tables_Brokers!$C$274),0) -> FALSE | AB45: =+IF(SUM(Z45:AA45)=0,IF(X45>=Tables_Brokers!$A$273,(X45-Tables_Brokers!$A$273)*Tables_Brokers!$B$274+Tables_Brokers!$C$273),0) -> FALSE | AC45: =+IF(SUM(Z45:AB45)=0,IF(X45>=Tables_Brokers!$A$272,(X45-Tables_Brokers!$A$272)*Tables_Brokers!$B$273+Tables_Brokers!$C$272),0) -> FALSE | AD45: =+IF(SUM(Z45:AC45)=0,IF(X45<=Tables_Brokers!$A$272,0,0)) -> 0
...

Sheet Tables_Brokers
A1: Tables
A3: Lending Officer | D3: Submitted by | F3: Policy Waiver
A4: =+Tables!#REF! -> #REF! | D4: =+Tables!D4 -> Namita Bansal | F4: =+Tables!#REF! -> #REF!
A5: =+Tables!A4 -> Jon Jackson | D5: =+Tables!D5 -> Brooke Newlove | F5: =+Tables!F4 -> Mike Currie
A6: =+Tables!#REF! -> #REF! | D6: =+Tables!#REF! -> #REF! | F6: =+Tables!F5 -> Taryn Pontifex
A7: =+Tables!A5 -> Marcel Coopman | D7: =+Tables!#REF! -> #REF! | F7: =+Tables!F6 -> Teri Hawkins
A8: =+Tables!A6 -> Mike Currie | D8: =+Tables!D6 -> Julie O'Regan
A9: =+Tables!A7 -> Teri Hawkins | D9: =+Tables!D7 -> Sascha Jovanoski
A10: =+Tables!A8 -> Taryn Pontifex | D10: =+Tables!D8 -> Max Campbell
D11: =+Tables!D9 -> Mariah Foy
D12: =+Tables!D10 -> Scott Uren
D13: =+Tables!D13 -> 0
A18: =+Tables!A18 -> BOARD | B18: =+Tables!B18 -> BOARD
A19: =+Tables!A19 -> LA | B19: =+Tables!B19 -> Loan Assessor
A20: =+Tables!A20 -> SLA | B20: =+Tables!B20 -> Senior Loan Assessor
A21: =+Tables!A21 -> CAL | B21: =+Tables!B21 -> Credit Assessment Lead
A22: =+Tables!A22 -> SMC | B22: =+Tables!B22 -> SMC
A23: =+Tables!A23 -> COO | B23: =+Tables!B23 -> COO
A24: =+Tables!A24 -> CEO | B24: =+Tables!B24 -> CEO
A25: =+Tables!A25 -> BOARD | B25: =+Tables!B25 -> BOARD
C27: 2 | D27: 3 | E27: 4 | F27: 5 | G27: 6 | H27: 7 | I27: 8 | J27: 9 | K27: 10
A28: Delegations | C28: LA | D28: SLA | E28: CAL | F28: SMC | G28: COO | H28: CEO
A30: HL Everyday 80 (Sal Cred) | B30: L1_80_SC | C30: =VLOOKUP($B30,ProductDLA,C$27,FALSE) -> 750000 | D30: =VLOOKUP($B30,ProductDLA,D$27,FALSE) -> 1000000 | E30: =VLOOKUP($B30,ProductDLA,E$27,FALSE) -> 1500000 | F30: =VLOOKUP($B30,ProductDLA,F$27,FALSE) -> 2000000 | G30: =VLOOKUP($B30,ProductDLA,G$27,FALSE) -> 2500000 | H30: 3000000 | I30: 360 | K30: 0.8 | M30: HL
A31: HL Everyday 90 (Sal Cred) | B31: L1_90_SC | C31: =VLOOKUP($B31,ProductDLA,C$27,FALSE) -> 750000 | D31: =VLOOKUP($B31,ProductDLA,D$27,FALSE) -> 1000000 | E31: =VLOOKUP($B31,ProductDLA,E$27,FALSE) -> 1500000 | F31: =VLOOKUP($B31,ProductDLA,F$27,FALSE) -> 2000000 | G31: =VLOOKUP($B31,ProductDLA,G$27,FALSE) -> 2500000 | H31: =VLOOKUP($B31,ProductDLA,H$27,FALSE) -> 3000000 | I31: 360 | K31: 0.8 | L31: 0.9 | M31: HL
A32: HL Everyday 95 (Sal Cred) | B32: L1_95_SC | C32: =VLOOKUP($B32,ProductDLA,C$27,FALSE) -> 750000 | D32: =VLOOKUP($B32,ProductDLA,D$27,FALSE) -> 1000000 | E32: =VLOOKUP($B32,ProductDLA,E$27,FALSE) -> 1500000 | F32: =VLOOKUP($B32,ProductDLA,F$27,FALSE) -> 2000000 | G32: =VLOOKUP($B32,ProductDLA,G$27,FALSE) -> 2500000 | H32: =VLOOKUP($B32,ProductDLA,H$27,FALSE) -> 3000000 | I32: 360 | K32: 0.8 | L32: 0.95 | M32: HL
A33: HL Everyday 80 IO (Sal Cred) | B33: L1_80_IO_SC | C33: =VLOOKUP($B33,ProductDLA,C$27,FALSE) -> 750000 | D33: =VLOOKUP($B33,ProductDLA,D$27,FALSE) -> 1000000 | E33: =VLOOKUP($B33,ProductDLA,E$27,FALSE) -> 1500000 | F33: =VLOOKUP($B33,ProductDLA,F$27,FALSE) -> 2000000 | G33: =VLOOKUP($B33,ProductDLA,G$27,FALSE) -> 2500000 | H33: =VLOOKUP($B33,ProductDLA,H$27,FALSE) -> 3000000 | I33: 360 | K33: 0.8 | M33: HL
A34: HL Everyday 90 IO (Sal Cred) | B34: L1_90_IO_SC | C34: =VLOOKUP($B34,ProductDLA,C$27,FALSE) -> 750000 | D34: =VLOOKUP($B34,ProductDLA,D$27,FALSE) -> 1000000 | E34: =VLOOKUP($B34,ProductDLA,E$27,FALSE) -> 1500000 | F34: =VLOOKUP($B34,ProductDLA,F$27,FALSE) -> 2000000 | G34: =VLOOKUP($B34,ProductDLA,G$27,FALSE) -> 2500000 | H34: =VLOOKUP($B34,ProductDLA,H$27,FALSE) -> 3000000 | I34: 360 | K34: 0.8 | L34: 0.9 | M34: HL
A35: HL Everyday 95 IO (Sal Cred) | B35: L1_95_IO_SC | C35: =VLOOKUP($B35,ProductDLA,C$27,FALSE) -> 750000 | D35: =VLOOKUP($B35,ProductDLA,D$27,FALSE) -> 1000000 | E35: =VLOOKUP($B35,ProductDLA,E$27,FALSE) -> 1500000 | F35: =VLOOKUP($B35,ProductDLA,F$27,FALSE) -> 2000000 | G35: =VLOOKUP($B35,ProductDLA,G$27,FALSE) -> 2500000 | H35: =VLOOKUP($B35,ProductDLA,H$27,FALSE) -> 3000000 | I35: 360 | K35: 0.8 | L35: 0.95 | M35: HL
A36: HL Everyday Fixed 1 Year (Sal Cred) | B36: L1_F1_SC | C36: =VLOOKUP($B36,ProductDLA,C$27,FALSE) -> 750000 | D36: =VLOOKUP($B36,ProductDLA,D$27,FALSE) -> 1000000 | E36: =VLOOKUP($B36,ProductDLA,E$27,FALSE) -> 1500000 | F36: =VLOOKUP($B36,ProductDLA,F$27,FALSE) -> 2000000 | G36: =VLOOKUP($B36,ProductDLA,G$27,FALSE) -> 2500000 | H36: =VLOOKUP($B36,ProductDLA,H$27,FALSE) -> 3000000 | I36: 360 | K36: 0.8 | L36: 0.95 | M36: HL
A37: HL Everyday Fixed 1 Year IO (Sal Cred) | B37: L1_F1_IO_SC | C37: =VLOOKUP($B37,ProductDLA,C$27,FALSE) -> 750000 | D37: =VLOOKUP($B37,ProductDLA,D$27,FALSE) -> 1000000 | E37: =VLOOKUP($B37,ProductDLA,E$27,FALSE) -> 1500000 | F37: =VLOOKUP($B37,ProductDLA,F$27,FALSE) -> 2000000 | G37: =VLOOKUP($B37,ProductDLA,G$27,FALSE) -> 2500000 | H37: =VLOOKUP($B37,ProductDLA,H$27,FALSE) -> 3000000 | I37: 360 | K37: 0.8 | L37: 0.9 | M37: HL
A38: HL Everyday Fixed 2 Year (Sal Cred) | B38: L1_F2_SC | C38: =VLOOKUP($B38,ProductDLA,C$27,FALSE) -> 750000 | D38: =VLOOKUP($B38,ProductDLA,D$27,FALSE) -> 1000000 | E38: =VLOOKUP($B38,ProductDLA,E$27,FALSE) -> 1500000 | F38: =VLOOKUP($B38,ProductDLA,F$27,FALSE) -> 2000000 | G38: =VLOOKUP($B38,ProductDLA,G$27,FALSE) -> 2500000 | H38: =VLOOKUP($B38,ProductDLA,H$27,FALSE) -> 3000000 | I38: 360 | K38: 0.8 | L38: 0.95 | M38: HL
A39: HL Everyday Fixed 3 Year (Sal Cred) | B39: L1_F3_SC | C39: =VLOOKUP($B39,ProductDLA,C$27,FALSE) -> 750000 | D39: =VLOOKUP($B39,ProductDLA,D$27,FALSE) -> 1000000 | E39: =VLOOKUP($B39,ProductDLA,E$27,FALSE) -> 1500000 | F39: =VLOOKUP($B39,ProductDLA,F$27,FALSE) -> 2000000 | G39: =VLOOKUP($B39,ProductDLA,G$27,FALSE) -> 2500000 | H39: =VLOOKUP($B39,ProductDLA,H$27,FALSE) -> 3000000 | I39: 360 | K39: 0.8 | L39: 0.95 | M39: HL
A40: HL Everyday Fixed 5 Year (Sal Cred) | B40: L1_F5_SC | C40: =VLOOKUP($B40,ProductDLA,C$27,FALSE) -> 750000 | D40: =VLOOKUP($B40,ProductDLA,D$27,FALSE) -> 1000000 | E40: =VLOOKUP($B40,ProductDLA,E$27,FALSE) -> 1500000 | F40: =VLOOKUP($B40,ProductDLA,F$27,FALSE) -> 2000000 | G40: =VLOOKUP($B40,ProductDLA,G$27,FALSE) -> 2500000 | H40: =VLOOKUP($B40,ProductDLA,H$27,FALSE) -> 3000000 | I40: 360 | K40: 0.8 | L40: 0.95 | M40: HL
A41: HL Everyday Roll Rate (Sal Cred) | B41: L1_Roll_SC | C41: =VLOOKUP($B41,ProductDLA,C$27,FALSE) -> 750000 | D41: =VLOOKUP($B41,ProductDLA,D$27,FALSE) -> 1000000 | E41: =VLOOKUP($B41,ProductDLA,E$27,FALSE) -> 1500000 | F41: =VLOOKUP($B41,ProductDLA,F$27,FALSE) -> 2000000 | G41: =VLOOKUP($B41,ProductDLA,G$27,FALSE) -> 2500000 | H41: =VLOOKUP($B41,ProductDLA,H$27,FALSE) -> 3000000 | I41: 360 | K41: 0.8 | L41: 0.95 | M41: HL
A42: INV Everyday 80 (Sal Cred) | B42: L1_INV80_SC | C42: =VLOOKUP($B42,ProductDLA,C$27,FALSE) -> 750000 | D42: =VLOOKUP($B42,ProductDLA,D$27,FALSE) -> 1000000 | E42: =VLOOKUP($B42,ProductDLA,E$27,FALSE) -> 1500000 | F42: =VLOOKUP($B42,ProductDLA,F$27,FALSE) -> 2000000 | G42: =VLOOKUP($B42,ProductDLA,G$27,FALSE) -> 2500000 | H42: =VLOOKUP($B42,ProductDLA,H$27,FALSE) -> 3000000 | I42: 360 | K42: 0.8 | M42: HL
A43: INV Everyday 90 (Sal Cred) | B43: L1_INV90_SC | C43: =VLOOKUP($B43,ProductDLA,C$27,FALSE) -> 750000 | D43: =VLOOKUP($B43,ProductDLA,D$27,FALSE) -> 1000000 | E43: =VLOOKUP($B43,ProductDLA,E$27,FALSE) -> 1500000 | F43: =VLOOKUP($B43,ProductDLA,F$27,FALSE) -> 2000000 | G43: =VLOOKUP($B43,ProductDLA,G$27,FALSE) -> 2500000 | H43: =VLOOKUP($B43,ProductDLA,H$27,FALSE) -> 3000000 | I43: 360 | K43: 0.8 | L43: 0.9 | M43: HL
A44: INV Everyday 80 IO (Sal Cred) | B44: L1_INV80_IO_SC | C44: =VLOOKUP($B44,ProductDLA,C$27,FALSE) -> 750000 | D44: =VLOOKUP($B44,ProductDLA,D$27,FALSE) -> 1000000 | E44: =VLOOKUP($B44,ProductDLA,E$27,FALSE) -> 1500000 | F44: =VLOOKUP($B44,ProductDLA,F$27,FALSE) -> 2000000 | G44: =VLOOKUP($B44,ProductDLA,G$27,FALSE) -> 2500000 | H44: =VLOOKUP($B44,ProductDLA,H$27,FALSE) -> 3000000 | I44: 360 | K44: 0.8 | M44: HL
A45: INV Everyday 90 IO (Sal Cred) | B45: L1_INV90_IO_SC | C45: =VLOOKUP($B45,ProductDLA,C$27,FALSE) -> 750000 | D45: =VLOOKUP($B45,ProductDLA,D$27,FALSE) -> 1000000 | E45: =VLOOKUP($B45,ProductDLA,E$27,FALSE) -> 1500000 | F45: =VLOOKUP($B45,ProductDLA,F$27,FALSE) -> 2000000 | G45: =VLOOKUP($B45,ProductDLA,G$27,FALSE) -> 2500000 | H45: =VLOOKUP($B45,ProductDLA,H$27,FALSE) -> 3000000 | I45: 360 | K45: 0.8 | L45: 0.9 | M45: HL
A46: INV Everyday Fixed 1 Year (Sal Cred) | B46: L1_INVF1_SC | C46: =VLOOKUP($B46,ProductDLA,C$27,FALSE) -> 750000 | D46: =VLOOKUP($B46,ProductDLA,D$27,FALSE) -> 1000000 | E46: =VLOOKUP($B46,ProductDLA,E$27,FALSE) -> 1500000 | F46: =VLOOKUP($B46,ProductDLA,F$27,FALSE) -> 2000000 | G46: =VLOOKUP($B46,ProductDLA,G$27,FALSE) -> 2500000 | H46: =VLOOKUP($B46,ProductDLA,H$27,FALSE) -> 3000000 | I46: 360 | K46: 0.8 | L46: 0.9 | M46: HL
A47: INV Everyday Fixed 2 Year (Sal Cred) | B47: L1_INVF2_SC | C47: =VLOOKUP($B47,ProductDLA,C$27,FALSE) -> 750000 | D47: =VLOOKUP($B47,ProductDLA,D$27,FALSE) -> 1000000 | E47: =VLOOKUP($B47,ProductDLA,E$27,FALSE) -> 1500000 | F47: =VLOOKUP($B47,ProductDLA,F$27,FALSE) -> 2000000 | G47: =VLOOKUP($B47,ProductDLA,G$27,FALSE) -> 2500000 | H47: =VLOOKUP($B47,ProductDLA,H$27,FALSE) -> 3000000 | I47: 360 | K47: 0.8 | L47: 0.9 | M47: HL
...

Sheet Worksheet
B1: MOVE Bank Loan Worksheet | G1: Version 1 -November 24 | L1: =+NOW() -> 46266.373
B3: Applicant 1 | F3: Age | H3: Applicant 2 | L3: Age
B6: Taxable Income | I6: Non Taxed Income | M6: App | O6: Salary | P6: Gross | Q6: Disc | R6: Wages YTD | Y6: App 1 | Z6: App 2
B7: Income | C7: Discount | D7: Employer | F7: Gross | G7: Period | N7: =+IF(I7="Salary Packaging",1,0)+IF(I7="Car Allowance",1,0) -> 0 | O7: App 1 | P7: =+SUM(X8:X13)+SUMIF(M7:M9,"App 1",V7:V9)+SUMIF(M12:M13,"App 1",V12:V13) -> 0 | Q7: =+SUM(T8:T13)/12+SUMIF(M7:M9,"App 1",V7:V9)+SUMIF(M12:M13,"App 1",V12:V13)*I14 -> 0 | R7: =+SUM(X8:X13)/30.3*Q14+(Y7*N7)/30.3*Q14+(Y8*N8)/30.3*Q14+(Y9*N9)/30.3*Q14 -> 0 | V7: =+IF(K7="",L7*0,IF(K7="A",L7/12,IF(K7="M",L7,IF(K7="b",L7*24/12,IF(K7="F",L7*26/12,IF(K7="W",L7*52/12))))))*W7 -> 0 | W7: =+IF(L7>0,IF(K7="","error",1)) -> FALSE | Y7: =+SUMIF(M7,"App 1",V7) -> 0 | Z7: =+SUMIF(M7,"App 2",V7) -> 0
B8: Applicant 1 | N8: =+IF(I8="Salary Packaging",1,0)+IF(I8="Car Allowance",1,0) -> 0 | O8: App 2 | P8: =+SUM(X14:X19)+SUMIF(M7:M9,"App 2",V7:V9)+SUMIF(M12:M13,"App 2",V12:V13) -> 0 | Q8: =+SUM(T14:T19)/12+SUMIF(M7:M9,"App 2",V7:V9)+SUMIF(M12:M13,"App 2",V12:V13)*0.8 -> 0 | R8: =+SUM(X14:X19)/30.3*Q18+(Z7*N7)/30.3*Q18+(Z8*N8)/30.3*Q18+(Z9*N9)/30.3*Q18 -> 0 | T8: =+IF(G8="",F8*0,IF(G8="A",F8,IF(G8="M",F8*12,IF(G8="B",F8*24,IF(G8="F",F8*26,IF(G8="W",F8*52))))))*U8 -> 0 | U8: =+IF(F8>0,IF(G8="","error",1)) -> FALSE | V8: =+IF(K8="",L8*0,IF(K8="A",L8/12,IF(K8="M",L8,IF(K8="b",L8*24/12,IF(K8="F",L8*26/12,IF(K8="W",L8*52/12))))))*W8 -> 0 | W8: =+IF(L8>0,IF(K8="","error",1)) -> FALSE | X8: =+T8/12 -> 0 | Y8: =+SUMIF(M8,"App 1",V8) -> 0 | Z8: =+SUMIF(M8,"App 2",V8) -> 0
B9: Overtime/penalties | C9: 0.8 | N9: =+IF(I9="Salary Packaging",1,0)+IF(I9="Car Allowance",1,0) -> 0 | O9: Total | P9: =SUM(P7:P8) -> 0 | Q9: =SUM(Q7:Q8) -> 0 | T9: =+IF(G9="",0*F9,IF(G9="A",F9*C9,IF(G9="M",F9*12*C9,IF(G9="B",F9*24*C9,IF(G9="F",F9*26*C9,IF(G9="W",F9*52*C9))))))*U9 -> 0 | U9: =+IF(F9>0,IF(G9="","error",1)) -> FALSE | V9: =+IF(K9="",L9*0,IF(K9="A",L9/12,IF(K9="M",L9,IF(K9="b",L9*24/12,IF(K9="F",L9*26/12,IF(K9="W",L9*52/12))))))*W9 -> 0 | W9: =+IF(L9>0,IF(K9="","error",1)) -> FALSE | X9: =+(T9/C9*100%)/12 -> 0 | Y9: =+SUMIF(M9,"App 1",V9) -> 0 | Z9: =+SUMIF(M9,"App 2",V9) -> 0
B10: Second Job | C10: 1 | I10: Rental Income | O10: Check | P10: =+C50/12 -> 0 | Q10: =+C48 -> 0 | T10: =+IF(G10="",0*F10,IF(G10="A",F10*C10,IF(G10="M",F10*12*C10,IF(G10="B",F10*24*C10,IF(G10="F",F10*26*C10,IF(G10="W",F10*52*C10))))))*U10 -> 0 | U10: =+IF(F10>0,IF(G10="","error",1)) -> FALSE | X10: =+(T10/C10*100%)/12 -> 0
B11: Commission | C11: 0.8 | I11: Property | J11: Rent $ | K11: Period | L11: Suburb | M11: App | T11: =+IF(G11="",0*F11,IF(G11="A",F11*C11,IF(G11="M",F11*12*C11,IF(G11="B",F11*24*C11,IF(G11="F",F11*26*C11,IF(G11="W",F11*52*C11))))))*U11 -> 0 | U11: =+IF(F11>0,IF(G11="","error",1)) -> FALSE | X11: =+(T11/C11*100%)/12 -> 0
B12: Allowances | C12: 1 | I12: Property 1 | O12: App 1 | P12: Date | Q12: Period | T12: =+IF(G12="",0*F12,IF(G12="A",F12*C12,IF(G12="M",F12*12*C12,IF(G12="B",F12*24*C12,IF(G12="F",F12*26*C12,IF(G12="W",F12*52*C12))))))*U12 -> 0 | U12: =+IF(F12>0,IF(G12="","error",1)) -> FALSE | V12: =+IF(K12="",0*J12,IF(K12="A",J12/12,IF(K12="M",J12,IF(K12="B",J12*24/12,IF(K12="F",J12*26/12,IF(K12="W",J12*52/12))))))*W12 -> 0 | W12: =+IF(J12>0,IF(K12="","error",1)) -> FALSE | X12: =+(T12/C12*100%)/12 -> 0 | Y12: =+SUMIF(M12,"App 1",V12) -> 0 | Z12: =+SUMIF(M12,"App 2",V12) -> 0
B13: Bonus | C13: 0.5 | I13: Property 2 | O13: Pay Period Ending | Q13: =+G8 -> 0 | T13: =+IF(G13="",0*F13,IF(G13="A",F13*C13,IF(G13="M",F13*12*C13,IF(G13="B",F13*24*C13,IF(G13="F",F13*26*C13,IF(G13="W",F13*52*C13))))))*U13 -> 0 | U13: =+IF(F13>0,IF(G13="","error",1)) -> FALSE | V13: =+IF(K13="",0*J13,IF(K13="A",J13/12,IF(K13="M",J13,IF(K13="B",J13*24/12,IF(K13="F",J13*26/12,IF(K13="W",J13*52/12))))))*W13 -> 0 | W13: =+IF(J13>0,IF(K13="","error",1)) -> FALSE | X13: =+(T13/C13*100%)/12 -> 0 | Y13: =+SUMIF(M13,"App 1",V13) -> 0 | Z13: =+SUMIF(M13,"App 2",V13) -> 0
B14: Applicant 2 | I14: 0.8 | J14: Gross per month | L14: =V14 -> 0 | O14: Prior Year End | P14: 45473 | Q14: =(P13-P14) -> -45473 | T14: =+IF(G14="",+F9*0,IF(G14="A",F14,IF(G14="M",F14*12,IF(G14="B",F14*24,IF(G14="F",F14*26,IF(G14="W",F14*52))))))*U14 -> 0 | U14: =+IF(F14>0,IF(G14="","error",1)) -> FALSE | V14: =SUM(V12:V13) -> 0 | X14: =+T14/12 -> 0
B15: Overtime/penalties | C15: 0.8 | I15: Living Expenses & LMI | O15: Pay Periods | P15: =ROUNDDOWN(+IF(Q13="",0*Q14,IF(Q13="M",Q14/30.3,IF(Q13="B",Q14/15,IF(Q13="F",Q14/14+1,IF(Q13="W",Q14/7))))),0) -> 0 | T15: =+IF(G15="",0*F15,IF(G15="A",F15*C15,IF(G15="M",F15*12*C15,IF(G15="B",F15*24*C15,IF(G15="F",F15*26*C15,IF(G15="W",F15*52*C15))))))*U15 -> 0 | U15: =+IF(F15>0,IF(G15="","error",1)) -> FALSE | X15: =+(T15/C15*100%)/12 -> 0
B16: Second Job | C16: 1 | I16: No. Adults | J16: 2 | L16: Per Month | M16: =+L17+#REF! -> #REF! | O16: App 2 | P16: Date | Q16: Period | T16: =+IF(G16="",0*F16,IF(G16="A",F16*C16,IF(G16="M",F16*12*C16,IF(G16="B",F16*24*C16,IF(G16="F",F16*26*C16,IF(G16="W",F16*52*C16))))))*U16 -> 0 | U16: =+IF(F16>0,IF(G16="","error",1)) -> FALSE | X16: =+(T16/C16*100%)/12 -> 0
B17: Commission | C17: 0.8 | I17: No. Children | J17: 0 | K17: HEM | L17: =+IF(Tables!H284>0,+Tables!H284,"ERROR") -> #REF! | O17: Pay Period Ending | Q17: =+G14 -> 0 | T17: =+IF(G17="",0*F17,IF(G17="A",F17*C17,IF(G17="M",F17*12*C17,IF(G17="B",F17*24*C17,IF(G17="F",F17*26*C17,IF(G17="W",F17*52*C17))))))*U17 -> 0 | U17: =+IF(F17>0,IF(G17="","error",1)) -> FALSE | X17: =+(T17/C17*100%)/12 -> 0
B18: Allowances | C18: 0.8 | I18: Health Ins | J18: No | K18: Declared | L18: =+IF('Living Expenses'!E32=0,"ERROR",'Living Expenses'!E32) -> 1 | O18: Prior Year End | P18: 45473 | Q18: =(P17-P18) -> -45473 | T18: =+IF(G18="",0*F18,IF(G18="A",F18*C18,IF(G18="M",F18*12*C18,IF(G18="B",F18*24*C18,IF(G18="F",F18*26*C18,IF(G18="W",F18*52*C18))))))*U18 -> 0 | U18: =+IF(F18>0,IF(G18="","error",1)) -> FALSE | X18: =+(T18/C18*100%)/12 -> 0
B19: Bonus | C19: 0.5 | I19: LMI | J19: No | K19: Assessed | L19: =+IF('Living Expenses'!I32=0,"ERROR",'Living Expenses'!I32) -> 1 | O19: Pay Periods | P19: =ROUNDDOWN(+IF(Q17="",0*Q18,IF(Q17="M",Q18/30.3,IF(Q17="B",Q18/15,IF(Q17="F",Q18/14+1,IF(Q17="W",Q18/7))))),0) -> 0 | S19: =+CONCATENATE(J20,J16,"+",J17) -> Brisbane2+0 | T19: =+IF(G19="",0*F19,IF(G19="A",F19*C19,IF(G19="M",F19*12*C19,IF(G19="B",F19*24*C19,IF(G19="F",F19*26*C19,IF(G19="W",F19*52*C19))))))*U19 -> 0 | U19: =+IF(F19>0,IF(G19="","error",1)) -> FALSE | X19: =+(T19/C19*100%)/12 -> 0
D20: Rate discount applied | F20: 0 | I20: Location | J20: Brisbane | L20: =IF(L17="ERROR","ERROR",IF(L18="ERROR","ERROR",IF(L19="ERROR","ERROR",+MAX(L17:L19)))) -> #REF!
B22: Commitment Details | T22: =+T8+T9/C9+T10/C10+T11/C11+T12/C12+T13/C13+T14+T15/C15+T16/C16+T17/C17+T18/C18+T19/C19 -> 0 | V22: =(SUM(V7:V19)-V14)*12 -> 0
B23: Lender | C23: Loan Amount or Balance (inc Redraw) | D23: Loan Type or Repay Type | E23: Rate/Limit or Repay | F23: Lender/Agent | G23: Term (in months) | H23: IO Split PO | I23: Repay pm | J23: =+CONCATENATE("Repay pm ",T24) -> #N/A | K23: LVR | L23: Security Value | M23: Add'l Buffer | N23: Notes | O23: Buffer | S23: MOVE | T23: =+IF(J19="Yes",VLOOKUP(D24,NSRRate,5,FALSE),VLOOKUP(D24,NSRRate,4,FALSE)) -> #N/A
A24: =IF(H24="Y","Y","") -> #N/A | B24: Proposed Loan | E24: =+VLOOKUP(D24,Rates,3,FALSE)-F20 -> #N/A | F24: MOVE | G24: 360 | H24: =+VLOOKUP(D24,Tables!A155:F268,6,FALSE) -> #N/A | I24: =+IF(C24=0,0,IF(D24="Flexicredit",C24*0.05,IF(D24="Credit Card",-PMT(E24/12,36,C24,0),-PMT(E24/12,G24,C24,0))))+P24 -> #N/A | J24: =+IF(C24=0,0,IF(D24="Flexicredit",C24*0.05,IF(D24="Credit Card",-PMT(E24/12,36,C24,0),-PMT($T$24/12,G24,C24,0))))+P24 -> #N/A | K24: =+IF(L24=0," ",C24/L24) | M24: =IF(H24="IO",+J24-I24,IF(J19="YES",J24-V24,0)) -> #N/A | O24: =+IF(J24>I24,J24/I24,"") -> #N/A | P24: =+VLOOKUP(D24,Tables!A155:G268,7,FALSE) -> #N/A | S24: =+IF(F24="MOVE",IF(A24="Y",0,C24)) -> #N/A | T24: =+IF($J$19="","ERROR",IF($J$19="Yes",VLOOKUP($D$24,NSRRate,5,FALSE),VLOOKUP($D$24,NSRRate,4,FALSE))) -> #N/A | U24: =+VLOOKUP($D$24,NSRRate,4,FALSE) -> #N/A | V24: =-PMT($U$24/12,G24,C24,0) -> #N/A | W24: =+T24-E24 -> #N/A
A25: =IF(H25="Y","Y","") | B25: Home Loan | I25: =+IF(C25=0,0,IF(H25="Y",0,IF(H25=0.5,-(PMT(E25/12,G25,C25,0)*H25),-(PMT(E25/12,G25,C25,0))))) -> 0 | J25: =+IF(C25=0,0,+IF(H25="Y",0,IF(H25=0.5,-(PMT(T25/12,G25,C25,0)*H25),-(PMT(T25/12,G25,C25,0))))) -> 0 | K25: =+IF(C25=0,0,C25/L25) -> 0 | M25: =+J25-I25 -> 0 | O25: =+IF(J25>I25,J25/I25,"") | S25: =+IF(F25="MOVE",IF(A25="Y",0,C25)) -> FALSE | T25: =IF((E25+Tables!$C$151)<Tables!$C$152,Tables!$C$152,E25+Tables!$C$151) -> 0.055
A26: =IF(H26="Y","Y","") | B26: Home Loan | I26: =+IF(C26=0,0,IF(H26="Y",0,IF(H26=0.5,-(PMT(E26/12,G26,C26,0)*H26),-(PMT(E26/12,G26,C26,0))))) -> 0 | J26: =+IF(C26=0,0,+IF(H26="Y",0,IF(H26=0.5,-(PMT(T26/12,G26,C26,0)*H26),-(PMT(T26/12,G26,C26,0))))) -> 0 | K26: =+IF(C26=0,0,C26/L26) -> 0 | M26: =+J26-I26 -> 0 | O26: =+IF(J26>I26,J26/I26,"") | S26: =+IF(F26="MOVE",IF(A26="Y",0,C26)) -> FALSE | T26: =IF((E26+Tables!$C$151)<Tables!$C$152,Tables!$C$152,E26+Tables!$C$151) -> 0.055
A27: =IF(H27="Y","Y","") | B27: Investment Loan | I27: =+IF(C27=0,0,IF(H27="Y",0,IF(H27=0.5,-(PMT(E27/12,G27,C27,0)*H27),-(PMT(E27/12,G27,C27,0))))) -> 0 | J27: =+IF(C27=0,0,+IF(H27="Y",0,IF(H27=0.5,-(PMT(T27/12,G27,C27,0)*H27),-(PMT(T27/12,G27,C27,0))))) -> 0 | K27: =+IF(C27=0,0,C27/L27) -> 0 | M27: =+J27-I27 -> 0 | O27: =+IF(J27>I27,J27/I27,"") | S27: =+IF(F27="MOVE",IF(A27="Y",0,C27)) -> FALSE | T27: =IF((E27+Tables!$C$151)<Tables!$C$152,Tables!$C$152,E27+Tables!$C$151) -> 0.055
A28: =IF(H28="Y","Y","") | B28: Investment Loan | I28: =+IF(C28=0,0,IF(H28="Y",0,IF(H28=0.5,-(PMT(E28/12,G28,C28,0)*H28),-(PMT(E28/12,G28,C28,0))))) -> 0 | J28: =+IF(C28=0,0,+IF(H28="Y",0,IF(H28=0.5,-(PMT(T28/12,G28,C28,0)*H28),-(PMT(T28/12,G28,C28,0))))) -> 0 | K28: =+IF(C28=0,0,C28/L28) -> 0 | M28: =+J28-I28 -> 0 | O28: =+IF(J28>I28,J28/I28,"") | S28: =+IF(F28="MOVE",IF(A28="Y",0,C28)) -> FALSE | T28: =IF((E28+Tables!$C$151)<Tables!$C$152,Tables!$C$152,E28+Tables!$C$151) -> 0.055
A29: =IF(H29="Y","Y","") | B29: Car Loan/Lease | I29: =+IF(H29="Y",0,T29) -> 0 | J29: =+I29 -> 0 | S29: =+IF(F29="MOVE",IF(A29="Y",0,C29)) -> FALSE | T29: =+IF(D29="",E29*0,IF(D29="A",E29/12,IF(D29="M",E29,IF(D29="B",E29*24/12,IF(D29="F",E29*26/12,IF(D29="W",E29*52/12))))))*U29 -> 0 | U29: =+IF(E29>0,IF(D29="","Error",1)) -> FALSE
A30: =IF(H30="Y","Y","") | B30: Car Loan/Lease | I30: =+IF(H30="Y",0,T30) -> 0 | J30: =+I30 -> 0 | S30: =+IF(F30="MOVE",IF(A30="Y",0,C30)) -> FALSE | T30: =+IF(D30="",E30*0,IF(D30="A",E30/12,IF(D30="M",E30,IF(D30="B",E30*24/12,IF(D30="F",E30*26/12,IF(D30="W",E30*52/12))))))*U30 -> 0 | U30: =+IF(E30>0,IF(D30="","Error",1)) -> FALSE
A31: =IF(H31="Y","Y","") | B31: Personal Loan | I31: =+IF(H31="Y",0,T31) -> 0 | J31: =+I31 -> 0 | S31: =+IF(F31="MOVE",IF(A31="Y",0,C31)) -> FALSE | T31: =+IF(D31="",E31*0,IF(D31="A",E31/12,IF(D31="M",E31,IF(D31="B",E31*24/12,IF(D31="F",E31*26/12,IF(D31="W",E31*52/12))))))*U31 -> 0 | U31: =+IF(E31>0,IF(D31="","Error",1)) -> FALSE
A32: =IF(H32="Y","Y","") | B32: Rent/Board | C32: =+CONCATENATE("Min. $",Tables!C376," pm") -> Min. $500 pm | I32: =+IF(E32="",0,IF(T32<Tables!C376,Tables!C376,IF(H32=0.5,T32*0.5,T32))) -> 0 | J32: =+I32 -> 0 | T32: =+IF(D32="",E32*0,IF(D32="A",E32/12,IF(D32="M",E32,IF(D32="B",E32*24/12,IF(D32="F",E32*26/12,IF(D32="W",E32*52/12))))))*U32 -> 0 | U32: =+IF(E32>0,IF(D32="","Error",1)) -> FALSE
A33: =IF(H33="Y","Y","") | B33: Other (specify) | I33: =+IF(H33="Y",0,T33) -> 0 | J33: =+I33 -> 0 | S33: =+IF(F33="MOVE",IF(A33="Y",0,C33)) -> FALSE | T33: =+IF(D33="",E33*0,IF(D33="A",E33/12,IF(D33="M",E33,IF(D33="B",E33*24/12,IF(D33="F",E33*26/12,IF(D33="W",E33*52/12))))))*U33 -> 0 | U33: =+IF(E33>0,IF(D33="","Error",1)) -> FALSE
A34: =IF(H34="Y","Y","") | B34: Other (specify) | I34: =+IF(H34="Y",0,T34) -> 0 | J34: =+I34 -> 0 | S34: =+IF(F34="MOVE",IF(A34="Y",0,C34)) -> FALSE | T34: =+IF(D34="",E34*0,IF(D34="A",E34/12,IF(D34="M",E34,IF(D34="B",E34*24/12,IF(D34="F",E34*26/12,IF(D34="W",E34*52/12))))))*U34 -> 0 | U34: =+IF(E34>0,IF(D34="","Error",1)) -> FALSE
A35: =IF(H35="Y","Y","") | B35: Overdraft | D35: =+IF(B35="overdraft",5%,3.8%) -> 0.05 | I35: =+IF(H35="Y",0,E35*D35) -> 0 | J35: =+I35 -> 0 | S35: =+IF(F35="MOVE",IF(A35="Y",0,E35)) -> FALSE
A36: =IF(H36="Y","Y","") | B36: Credit Card | D36: 0.038 | I36: =+IF(H36="Y",0,IF(AND(H36="Exc",C36=0),0,D36*E36)) -> 0 | J36: =+I36 -> 0 | S36: =+IF(F36="MOVE",IF(A36="Y",0,E36)) -> FALSE
A37: =IF(H37="Y","Y","") | B37: Credit Card | D37: 0.038 | I37: =+IF(H37="Y",0,IF(AND(H37="Exc",C37=0),0,D37*E37)) -> 0 | J37: =+I37 -> 0 | S37: =+IF(F37="MOVE",IF(A37="Y",0,E37)) -> FALSE
A38: =IF(H38="Y","Y","") | B38: Credit Card | D38: 0.038 | I38: =+IF(H38="Y",0,IF(AND(H38="Exc",C38=0),0,D38*E38)) -> 0 | J38: =+I38 -> 0 | S38: =+IF(F38="MOVE",IF(A38="Y",0,E38)) -> FALSE
A39: =IF(H39="Y","Y","") | B39: Credit Card | D39: 0.038 | I39: =+IF(H39="Y",0,IF(AND(H39="Exc",C39=0),0,D39*E39)) -> 0 | J39: =+I39 -> 0 | S39: =+IF(F39="MOVE",IF(A39="Y",0,E39)) -> FALSE
B40: Total Debt | C40: =SUMIF(A24:A39,"",C24:C39) -> 0 | D40: Total Exp MOVE Bank | F40: =+S40 -> #N/A | G40: Total Repay pm | I40: =SUM(+SUM(I24:I39)) -> #N/A | J40: =SUM(+SUM(J24:J39)) -> #N/A | K40: Security | L40: =+SUMIF(F24:F28,"MOVE",L24:L28) -> 0 | S40: =SUM(S24:S39) -> #N/A | T40: Lower | U40: Upper
B42: Serviceability Information | T42: =+Tables!B313 -> 27222 | U42: =+Tables!B314 -> 34027 | V42: Medicare threshold
B43: Income from Above | C43: Total Gross Income PM | D43: Less Tax Payable | E43: After Tax Income PM | F43: Employment Status | G43: Confirmed Payslip | H43: No pay slips | I43: Reference Check | J43: Period of Employment | K43: Paid to MOVE? | L43: Comments | M43: HELP (If applicable) | T43: Total Tax | U43: Medicare | V43: Tax | W43: Medicare Surcharge | X43: Gross | Y43: =+Y44/52 -> 0 | Z43: $180K+ | AA43: $80k<$180k | AB43: $37k<$80k | AC43: $6k<$37K | AD43: <$6000
B44: Member 1 | C44: =+SUM(T8:T13)/12 -> 0 | D44: =+T44/12 -> #N/A | E44: =+C44-D44 -> #N/A | H44: 2 | M44: =+Fees!L10 -> 0 | T44: =+U44+V44+W44 -> #N/A | U44: =+IF(X$44<=$T$42,0,IF(X$44<=$U$42,((X44-$T$42)*Tables!$B$311),X44*Tables!$B$311)) -> 0 | V44: =+Y44 -> 0 | W44: =+Tables!D316 -> #N/A | X44: =+C44*12 -> 0 | Y44: =+SUM(Z44:AD44) -> 0 | Z44: =+IF(X44>=Tables!$A$308,((X44-Tables!$A$308)*Tables!$B$309)+Tables!$C$308,0) -> 0 | AA44: =+IF(Z44=0,IF(X44>=Tables!$A$307,(X44-Tables!$A$307)*Tables!$B$308+Tables!$C$307),0) -> FALSE | AB44: =+IF(SUM(Z44:AA44)=0,IF(X44>=Tables!$A$306,(X44-Tables!$A$306)*Tables!$B$307+Tables!$C$306),0) -> FALSE | AC44: =+IF(SUM(Z44:AB44)=0,IF(X44>=Tables!$A$305,(X44-Tables!$A$305)*Tables!$B$306+Tables!$C$305),0) -> FALSE | AD44: =+IF(SUM(Z44:AC44)=0,IF(X44<=Tables!$A$305,0,0)) -> 0
B45: Member 2 | C45: =+SUM(T14:T19)/12 -> 0 | D45: =+T45/12 -> 0 | E45: =+C45-D45 -> 0 | H45: 2 | M45: =+Fees!L18 -> 0 | T45: =+U45+V45+W45 -> 0 | U45: =+IF(X$45<=$T$42,0,IF(X$45<=$U$42,((X45-$T$42)*Tables!$B$311),X45*Tables!$B$311)) -> 0 | V45: =+Y45 -> 0 | X45: =+C45*12 -> 0 | Y45: =+SUM(Z45:AD45) -> 0 | Z45: =+IF(X45>=Tables!$A$308,((X45-Tables!$A$308)*Tables!$B$309)+Tables!$C$308,0) -> 0 | AA45: =+IF(Z45=0,IF(X45>=Tables!$A$307,(X45-Tables!$A$307)*Tables!$B$308+Tables!$C$307),0) -> FALSE | AB45: =+IF(SUM(Z45:AA45)=0,IF(X45>=Tables!$A$306,(X45-Tables!$A$306)*Tables!$B$307+Tables!$C$306),0) -> FALSE | AC45: =+IF(SUM(Z45:AB45)=0,IF(X45>=Tables!$A$305,(X45-Tables!$A$305)*Tables!$B$306+Tables!$C$305),0) -> FALSE | AD45: =+IF(SUM(Z45:AC45)=0,IF(X45<=Tables!$A$305,0,0)) -> 0
...

Sheet Tables
A1: Tables
A3: Lending Officer | D3: Submitted by | F3: Policy Waiver
A4: Jon Jackson | D4: Namita Bansal | F4: Mike Currie
A5: Marcel Coopman | D5: Brooke Newlove | F5: Taryn Pontifex
A6: Mike Currie | D6: Julie O'Regan | F6: Teri Hawkins
A7: Teri Hawkins | D7: Sascha Jovanoski
A8: Taryn Pontifex | D8: Max Campbell
D9: Mariah Foy
D10: Scott Uren
A18: BOARD | B18: BOARD
A19: LA | B19: Loan Assessor
A20: SLA | B20: Senior Loan Assessor
A21: CAL | B21: Credit Assessment Lead
A22: SMC | B22: SMC
A23: COO | B23: COO
A24: CEO | B24: CEO
A25: BOARD | B25: BOARD
A29: Delegations | C29: LA | D29: SLA | E29: CTL | F29: CTL | G29: COO | H29: CEO | I29: Term | K29: Without LMI | L29: LMI | M29: Class
A30: PL - Unsec | B30: L11 | C30: 20000 | D30: 30150 | E30: 40000 | F30: 50000 | G30: 50000 | H30: 100000 | I30: 84 | K30: 0% | M30: PL
A31: PL - Sec | B31: L11 | C31: 30000 | D31: 40000 | E31: 50000 | F31: 85000 | G31: 150000 | H31: 250000 | I31: 84 | K31: Varies | M31: PL
A32: Car AnyAge | B32: L12 | C32: 60000 | D32: 100000 | E32: 150000 | F32: 200000 | G32: 250000 | H32: 300000 | I32: 84 | K32: Varies | M32: PL
A33: Car <3yo | B33: L23 | C33: 60000 | D33: 100000 | E33: 150000 | F33: 200000 | G33: 250000 | H33: 300000 | I33: 84 | K33: Varies | M33: PL
A34: Car <3yo Green | B34: L24 | C34: 60000 | D34: 100000 | E34: 150000 | F34: 200000 | G34: 250000 | H34: 300000 | I34: 84 | K34: Varies | M34: PL
A35: Credit Card | B35: S7 | C35: 25000 | D35: 25000 | E35: 25000 | F35: 25000 | G35: 35000 | H35: 50000 | I35: 36 | K35: 0% | M35: PL
A36: FlexiCredit | B36: S22 | C36: 25000 | D36: 25000 | E36: 25000 | F36: 25000 | G36: 35000 | H36: 50000 | I36: 36 | K36: 0% | M36: PL
A37: HL Everyday 80 (Sal Cred) | B37: L1_80_SC | C37: 750000 | D37: 1000000 | E37: 1500000 | F37: 2000000 | G37: 2500000 | H37: 3000000 | I37: 360 | K37: 0.8 | M37: HL
A38: HL Everyday 90 (Sal Cred) | B38: L1_90_SC | C38: 750000 | D38: 1000000 | E38: 1500000 | F38: 2000000 | G38: 2500000 | H38: 3000000 | I38: 360 | K38: 0.8 | L38: 0.9 | M38: HL
A39: HL Everyday 95 (Sal Cred) | B39: L1_95_SC | C39: 750000 | D39: 1000000 | E39: 1500000 | F39: 2000000 | G39: 2500000 | H39: 3000000 | I39: 360 | K39: 0.8 | L39: 0.95 | M39: HL
A40: HL Everyday 80 IO (Sal Cred) | B40: L1_80_IO_SC | C40: 750000 | D40: 1000000 | E40: 1500000 | F40: 2000000 | G40: 2500000 | H40: 3000000 | I40: 360 | K40: 0.8 | M40: HL
A41: HL Everyday 90 IO (Sal Cred) | B41: L1_90_IO_SC | C41: 750000 | D41: 1000000 | E41: 1500000 | F41: 2000000 | G41: 2500000 | H41: 3000000 | I41: 360 | K41: 0.8 | L41: 0.9 | M41: HL
A42: HL Everyday 95 IO (Sal Cred) | B42: L1_95_IO_SC | C42: 750000 | D42: 1000000 | E42: 1500000 | F42: 2000000 | G42: 2500000 | H42: 3000000 | I42: 360 | K42: 0.8 | L42: 0.95 | M42: HL
A43: HL Everyday Fixed 1 Year (Sal Cred) | B43: L1_F1_SC | C43: 750000 | D43: 1000000 | E43: 1500000 | F43: 2000000 | G43: 2500000 | H43: 3000000 | I43: 360 | K43: 0.8 | L43: 0.95 | M43: HL
A44: HL Everyday Fixed 1 Year IO (Sal Cred) | B44: L1_F1_IO_SC | C44: 750000 | D44: 1000000 | E44: 1500000 | F44: 2000000 | G44: 2500000 | H44: 3000000 | I44: 360 | K44: 0.8 | L44: 0.9 | M44: HL
A45: HL Everyday Fixed 2 Year (Sal Cred) | B45: L1_F2_SC | C45: 750000 | D45: 1000000 | E45: 1500000 | F45: 2000000 | G45: 2500000 | H45: 3000000 | I45: 360 | K45: 0.8 | L45: 0.95 | M45: HL
A46: HL Everyday Fixed 3 Year (Sal Cred) | B46: L1_F3_SC | C46: 750000 | D46: 1000000 | E46: 1500000 | F46: 2000000 | G46: 2500000 | H46: 3000000 | I46: 360 | K46: 0.8 | L46: 0.95 | M46: HL
A47: HL Everyday Fixed 5 Year (Sal Cred) | B47: L1_F5_SC | C47: 750000 | D47: 1000000 | E47: 1500000 | F47: 2000000 | G47: 2500000 | H47: 3000000 | I47: 360 | K47: 0.8 | L47: 0.95 | M47: HL
A48: HL Everyday Roll Rate (Sal Cred) | B48: L1_Roll_SC | C48: 750000 | D48: 1000000 | E48: 1500000 | F48: 2000000 | G48: 2500000 | H48: 3000000 | I48: 360 | K48: 0.8 | L48: 0.95 | M48: HL
A49: INV Everyday 80 (Sal Cred) | B49: L1_INV80_SC | C49: 750000 | D49: 1000000 | E49: 1500000 | F49: 2000000 | G49: 2500000 | H49: 3000000 | I49: 360 | K49: 0.8 | M49: HL
A50: INV Everyday 90 (Sal Cred) | B50: L1_INV90_SC | C50: 750000 | D50: 1000000 | E50: 1500000 | F50: 2000000 | G50: 2500000 | H50: 3000000 | I50: 360 | K50: 0.8 | L50: 0.9 | M50: HL
A51: INV Everyday 80 IO (Sal Cred) | B51: L1_INV80_IO_SC | C51: 750000 | D51: 1000000 | E51: 1500000 | F51: 2000000 | G51: 2500000 | H51: 3000000 | I51: 360 | K51: 0.8 | M51: HL
...

Sheet DropINTable
A1: Below is a copy/paste of Table 1 in the HPL publication
A2: The relevant column for the HEM is the last column, the column "Other than Housing in $ per week". This is because the HEM is net of housing expenditure.
A3: In the HPL different poverty lines are computed based on the head of the household's labour force status; This is not the case for the HEM. There is only one HEM.
A4: The 'standard' smoothed HEM by family type is presented to the right of HPL Table 1 and is in bold print; This is the smoothed HEM for Australia as a whole. It is calculated based on within family type expenditure on median absolute basics and the 25th percentile discretionary basics (i.e. based on raw data)
A5: The smoothed HEM values are moving averages over the current and the previous three quarters.
A6: Other tables report the HEM numbers by geographic location (State capital and balance of state), 13 different household income groups, and finally by geographic and household income levels. These numbers are obtained by predicting median absolute basic and the 25th percentile of discretionary basics using the estimation results from the quantile regressions. | AC6: "HEM Table 1" equivalent: by Income Level and Geographic Location
A7: Then, these predicted values are added to get the predicted HEM. Finally, these predicted HEMs are averaged by family type. One exception is for single parents with 3 children. Due to the small sample size, the HEM for this group is simply the HEM for single parents with 2 children plus the increase in the HEM going from 1 to 2 children. | AE7: BASED ON PREDICTED VALUES FROM THE QUANTILE REGRESSIONS
A8: The advantage of predicting the HEM is that there simply would not be enough families to get a reliable estimate for single parents with 2 children on more than $100K when trying to use raw data, let alone specifically for less densely populated areas (e.g. Tasmania excl. Hobart) | AG8: Smoothed HEM
A9: All HEMs are expressed in June 2026 dollars; Data used is the 2015-16 Household Expenditure Survey (HES)
AE10: Total current gross HH income from all sources (measured in current dollars)
A11: "HPL Table 1" | E11: "HEM Table 1" equivalent | M11: "HEM Table 1" equivalent: by Geographic Location | AB11: 27000 | AC11: 27000 | AD11: 41000 | AE11: 54000 | AF11: 68000 | AG11: 81000 | AH11: 109000 | AI11: 136000 | AJ11: 163000 | AK11: 190000 | AL11: 217000 | AM11: 271000 | AN11: 339000 | AO11: 407000
A12: (Poverty Lines: Australia, March Quarter, 2026) | E12: BASED ON RAW DATA | O12: BASED ON PREDICTED VALUES FROM THE QUANTILE REGRESSIONS | AB12: or less | AC12: to | AD12: to | AE12: to | AF12: to | AG12: to | AH12: to | AI12: to | AJ12: to | AK12: to | AL12: to | AM12: to | AN12: to | AO12: to
E13: Smoothed HEM | Q13: Smoothed HEM | AC13: 41000 | AD13: 54000 | AE13: 68000 | AF13: 81000 | AG13: 109000 | AH13: 136000 | AI13: 163000 | AJ13: 190000 | AK13: 217000 | AL13: 271000 | AM13: 339000 | AN13: 407000 | AO13: 678000
A14: HEAD IN WORKFORCE | B14: Including Housing $ per week | C14: Other than Housing $ per week | E14: WORKFORCE STATUS HEAD NOT USED | F14: Including Housing $ per week | G14: Other than Housing $ per week | H14: Change ($) from previous Quarter | M14: Sydney | N14: Balance of NSW | O14: Melbourne | P14: Balance of VIC | Q14: Brisbane | R14: Balance of QLD | S14: Adelaide | T14: Balance of SA | U14: Perth | V14: Balance of WA | W14: Hobart | X14: Balance of TAS | Y14: ACT&NT | AA14: Australia
A15: Couple | B15: 940.04 | C15: 685.75 | E15: Couple | F15: - | G15: 829.34103 | H15: 6.9953918 | J15: Couple | K15: 842.40012 | M15: 834.36852 | N15: 858.69701 | O15: 840.66425 | P15: 873.97483 | Q15: 819.8444 | R15: 889.70331 | S15: 863.50723 | T15: 816.79784 | U15: 791.99518 | V15: 849.08201 | W15: 864.71807 | X15: 852.25197 | Y15: 874.98981 | AA15: Couple | AC15: 624.97597 | AD15: 640.28141 | AE15: 666.07608 | AF15: 712.34359 | AG15: 773.87749 | AH15: 857.2789 | AI15: 943.71032 | AJ15: 1023.9704 | AK15: 1081.7195 | AL15: 1136.4065 | AM15: 1263.3634 | AN15: 1445.7849 | AO15: 1453.588
A16: Couple with 1 child | B16: 1129.98 | C16: 854.64 | E16: Couple with 1 child | F16: - | G16: 1073.314 | H16: 7.3609924 | J16: Couple with 1 child | K16: 1093.7123 | M16: 1084.042 | N16: 1108.522 | O16: 1090.3769 | P16: 1123.895 | Q16: 1069.4274 | R16: 1139.7214 | S16: 1113.3622 | T16: 1066.3619 | U16: 1041.4048 | V16: 1098.8471 | W16: 1114.5806 | X16: 1102.0368 | Y16: 1124.9163 | AA16: Couple with 1 child | AD16: 733.04007 | AE16: 758.99538 | AF16: 805.55105 | AG16: 867.46817 | AH16: 951.389 | AI16: 1038.3587 | AJ16: 1119.1186 | AK16: 1177.2274 | AL16: 1232.2549 | AM16: 1360.0025 | AN16: 1543.5601 | AO16: 1551.4119
A17: Couple with 2 children | B17: 1319.91 | C17: 1021.74 | E17: Couple with 2 children | F17: - | G17: 1146.6562 | H17: 9.4343872 | J17: Couple with 2 children | K17: 1181.8688 | M17: 1172.8909 | N17: 1197.2247 | O17: 1179.188 | P17: 1212.5059 | Q17: 1158.3636 | R17: 1228.2378 | S17: 1202.036 | T17: 1155.3164 | U17: 1130.5083 | V17: 1187.6076 | W17: 1203.2471 | X17: 1190.7783 | Y17: 1213.5211 | AA17: Couple with 2 children | AD17: 811.59412 | AE17: 837.39444 | AF17: 883.67208 | AG17: 945.21945 | AH17: 1028.6391 | AI17: 1115.0895 | AJ17: 1195.3671 | AK17: 1253.1288 | AL17: 1307.8278 | AM17: 1434.8125 | AN17: 1617.2739 | AO17: 1625.0788
A18: Couple with 3 children | B18: 1509.85 | C18: 1188.84 | E18: Couple with 3 children | F18: - | G18: 1245.3775 | H18: 10.669556 | J18: Couple with 3 children | K18: 1250.9846 | M18: 1244.7134 | N18: 1269.0293 | O18: 1251.0059 | P18: 1284.2992 | Q18: 1230.1968 | R18: 1300.0196 | S18: 1273.837 | T18: 1227.1518 | U18: 1202.362 | V18: 1259.4193 | W18: 1275.0473 | X18: 1262.5876 | Y18: 1285.3137 | AA18: Couple with 3 children | AE18: 911.65151 | AF18: 957.89509 | AG18: 1019.3972 | AH18: 1102.7555 | AI18: 1189.1422 | AJ18: 1269.3607 | AK18: 1327.08 | AL18: 1381.7387 | AM18: 1508.6299 | AN18: 1690.9571 | AO18: 1698.7562
A19: Couple with 4 children | B19: 1699.78 | C19: 1354.1
A20: Single person | B20: 702.72 | C20: 472.92 | E20: Single person | F20: - | G20: 389.13249 | H20: 3.9798355 | J20: Single person | K20: 414.67647 | M20: 406.5194 | N20: 430.80508 | O20: 412.80405 | P20: 446.05602 | Q20: 392.02083 | R20: 461.75683 | S20: 435.60684 | T20: 388.97962 | U20: 364.2206 | V20: 421.20699 | W20: 436.81555 | X20: 424.37138 | Y20: 447.06921 | AA20: Single person | AB20: 325.71268 | AC20: 343.51712 | AD20: 358.79564 | AE20: 384.54492 | AF20: 430.73104 | AG20: 492.15669 | AH20: 575.41137 | AI20: 661.69073 | AJ20: 741.80961 | AK20: 799.45711 | AL20: 854.04785 | AM20: 980.78141 | AN20: 1162.882 | AO20: 1170.6714
A21: Single parent with 1 child | B21: 902.16 | C21: 649.53 | E21: Single parent with 1 child | F21: - | G21: 529.01607 | H21: 3.5282898 | J21: Single parent with 1 child | K21: 575.16804 | M21: 564.38999 | N21: 589.04678 | O21: 570.77067 | P21: 604.53077 | Q21: 549.66986 | R21: 620.47151 | S21: 593.92192 | T21: 546.58219 | U21: 521.44482 | V21: 579.30203 | W21: 595.1491 | X21: 582.51477 | Y21: 605.55945 | AA21: Single parent with 1 child | AC21: 460.8015 | AD21: 476.31348 | AE21: 502.45625 | AF21: 549.34814 | AG21: 611.71243 | AH21: 696.23933 | AI21: 783.83714 | AJ21: 865.18032 | AK21: 923.70874 | AL21: 979.13368 | AM21: 1107.8039 | AN21: 1292.6871 | AO21: 1300.5956
A22: Single parent with 2 children | B22: 1091.96 | C22: 816.63 | E22: Single parent with 2 children | F22: - | G22: 624.64569 | H22: 6.0339355 | J22: Single parent with 2 children | K22: 679.54102 | M22: 668.36679 | N22: 692.73664 | O22: 674.67322 | P22: 708.04044 | Q22: 653.81797 | R22: 723.79566 | S22: 697.55504 | T22: 650.76623 | U22: 625.9214 | V22: 683.10529 | W22: 698.76794 | X22: 686.28065 | Y22: 709.05714 | AA22: Single parent with 2 children | AC22: 570.15225 | AD22: 585.48371 | AE22: 611.32223 | AF22: 657.66841 | AG22: 719.30693 | AH22: 802.85014 | AI22: 889.42852 | AJ22: 969.82505 | AK22: 1027.6723 | AL22: 1082.4523 | AM22: 1209.625 | AN22: 1392.3567 | AO22: 1400.1731
A23: Single parent with 3 children | B23: 1281.9 | C23: 983.73 | E23: Single parent with 3 children | F23: - | G23: 720.27528 | H23: 8.539566 | J23: Single parent with 3 children | K23: 783.914 | M23: 772.3436 | N23: 796.42649 | O23: 778.57577 | P23: 811.5501 | Q23: 757.96608 | R23: 827.1198 | S23: 801.18816 | T23: 754.95028 | U23: 730.39798 | V23: 786.90855 | W23: 802.38677 | X23: 790.04652 | Y23: 812.55483 | AA23: Single parent with 3 children | AD23: 694.65394 | AE23: 720.18822 | AF23: 765.98868 | AG23: 826.90144 | AH23: 909.46096 | AI23: 995.0199 | AJ23: 1074.4698 | AK23: 1131.6359 | AL23: 1185.7709 | AM23: 1311.4462 | AN23: 1492.0263 | AO23: 1499.7507
A24: Single parent with 4 children | B24: 1471.83 | C24: 1150.83
A26: HEAD NOT IN WORKFORCE | J26: Sample Sizes for different family types | AA26: Sydney
A27: Couple | B27: 807.13 | C27: 554.49 | AA27: Couple | AC27: 616.94437 | AD27: 632.24981 | AE27: 658.04448 | AF27: 704.31199 | AG27: 765.84589 | AH27: 849.2473 | AI27: 935.67873 | AJ27: 1015.9388 | AK27: 1073.6879 | AL27: 1128.3749 | AM27: 1255.3318 | AN27: 1437.7533 | AO27: 1445.5564
A28: Couple with 1 child | B28: 997.06 | C28: 721.73 | J28: Couple | K28: 2986 | AA28: Couple with 1 child | AD28: 723.36978 | AE28: 749.3251 | AF28: 795.88076 | AG28: 857.79789 | AH28: 941.71872 | AI28: 1028.6884 | AJ28: 1109.4484 | AK28: 1167.5571 | AL28: 1222.5847 | AM28: 1350.3323 | AN28: 1533.8899 | AO28: 1541.7416
A29: Couple with 2 children | B29: 1187 | C29: 888.83 | J29: Couple with 1 child | K29: 622 | AA29: Couple with 2 children | AD29: 802.61625 | AE29: 828.41656 | AF29: 874.6942 | AG29: 936.24158 | AH29: 1019.6612 | AI29: 1106.1116 | AJ29: 1186.3892 | AK29: 1244.151 | AL29: 1298.8499 | AM29: 1425.8346 | AN29: 1608.296 | AO29: 1616.1009
A30: Couple with 3 children | B30: 1376.93 | C30: 1055.93 | J30: Couple with 2 children | K30: 858 | AA30: Couple with 3 children | AE30: 905.38032 | AF30: 951.62391 | AG30: 1013.126 | AH30: 1096.4843 | AI30: 1182.871 | AJ30: 1263.0896 | AK30: 1320.8088 | AL30: 1375.4675 | AM30: 1502.3587 | AN30: 1684.6859 | AO30: 1692.485
A31: Couple with 4 children | B31: 1566.87 | C31: 1221.18 | J31: Couple with 3 children | K31: 409
A32: Single person | B32: 569.81 | C32: 340.01 | J32: Single person | K32: 2705 | AA32: Single person | AB32: 317.55561 | AC32: 335.36005 | AD32: 350.63856 | AE32: 376.38785 | AF32: 422.57397 | AG32: 483.99961 | AH32: 567.2543 | AI32: 653.53366 | AJ32: 733.65253 | AK32: 791.30004 | AL32: 845.89078 | AM32: 972.62434 | AN32: 1154.7249 | AO32: 1162.5143
A33: Single parent with 1 child | B33: 769.11 | C33: 516.61 | J33: Single parent with 1 child | K33: 228 | AA33: Single parent with 1 child | AC33: 450.02344 | AD33: 465.53543 | AE33: 491.67819 | AF33: 538.57008 | AG33: 600.93437 | AH33: 685.46127 | AI33: 773.05908 | AJ33: 854.40226 | AK33: 912.93068 | AL33: 968.35562 | AM33: 1097.0258 | AN33: 1281.9091 | AO33: 1289.8175
A34: Single parent with 2 children | B34: 959.05 | C34: 683.71 | J34: Single parent with 2 children | K34: 188 | AA34: Single parent with 2 children | AC34: 558.97802 | AD34: 574.30948 | AE34: 600.148 | AF34: 646.49418 | AG34: 708.1327 | AH34: 791.67591 | AI34: 878.25429 | AJ34: 958.65082 | AK34: 1016.4981 | AL34: 1071.278 | AM34: 1198.4508 | AN34: 1381.1825 | AO34: 1388.9989
A35: Single parent with 3 children | B35: 1148.98 | C35: 850.81 | J35: Single parent with 3 children | K35: 112 | AA35: Single parent with 3 children | AD35: 683.08353 | AE35: 708.61781 | AF35: 754.41828 | AG35: 815.33103 | AH35: 897.89055 | AI35: 983.44949 | AJ35: 1062.8994 | AK35: 1120.0655 | AL35: 1174.2005 | AM35: 1299.8758 | AN35: 1480.4559 | AO35: 1488.1803
A36: Single parent with 4 children | B36: 1338.92 | C36: 1017.92 | J36: Total | K36: 8108
AA38: Balance of NSW
AA39: Couple | AC39: 641.27285 | AD39: 656.57829 | AE39: 682.37296 | AF39: 728.64047 | AG39: 790.17438 | AH39: 873.57578 | AI39: 960.00721 | AJ39: 1040.2673 | AK39: 1098.0164 | AL39: 1152.7033 | AM39: 1279.6603 | AN39: 1462.0817 | AO39: 1469.8849
